Workbook

Sheet Menu
C2: AKREDITASI PROGRAM STUDI
C3: LEMBAGA AKREDITASI MANDIRI EKONOMI, MANAJEMEN, AKUNTANSI DAN BISNIS
C5: Pilih Program: | D5: Program Sarjana
B8: ASESMEN LAPANGAN
B9: (Penilaian Tim Asesor)
B10: Asesor I | E10: Perguruan Tinggi
B12: Asesor II | E12: Unit Pengelola Program Studi
B14: Kota Penilaian | E14: Program Studi
B16: Tanggal Penilaian | E16: Kode Panel
E18: TS | G18: /
E19: TS = Tahun akademik penuh terakhir saat pengajuan usulan akreditasi

Sheet Kertas Kerja
A1: FORMULIR PENILAIAN ASESMEN LAPANGAN AKREDITASI PROGRAM STUDI
A2: LEMBAGA AKREDITASI MANDIRI EKONOMI, MANAJEMEN, BISNIS DAN AKUNTANSI
B4: Perguruan Tinggi | C4: :
B5: Fakultas | C5: :
B6: Departemen | C6: :
B7: Program Studi | C7: :
B8: Tanggal Asesmen Lapangan | C8: :
A10: No. | B10: Kriteria & Deskripsi | C10: Dimensi | D10: Indikator | E10: Evaluasi Asesor | N10: Hasil AK Asesor I | O10: Hasil AK Asesor II
E11: Status*) | G11: Deskripsi Penilaian Asesor Berdasarkan Data dan Informasi dari DED dan DKPS | H11: Standar Pendidikan Tinggi yang ditetapkan oleh Perguruan Tinggi sesuai atau melampaui**) | J11: Tingkat Daya Saing | L11: Pemenuhan Syarat Perlu Peringkat Akreditasi | N11: Deskripsi Penilaian Asesor Berdasarkan Analisis Asesmen Kecukupan | O11: Deskripsi Penilaian Asesor Berdasarkan Analisis Asesmen Kecukupan
E12: Meet the Indicator | F12: Not Meet the Indicator | H12: SN-Dikti | I12: Target pada Rencana Strategis | J12: Per Indikator | K12: Per Dimensi
A13: 1.a.1 | B13: VISI, MISI, TUJUAN DAN STRATEGI Unit Pengelola Program Studi menjelaskan proses dalam menentukan visi, misi, tujuan dan pengembangan strategi, mengemban misi, mencapai visi dan tujuan strategis, serta proses dalam mengendalikan pelaksanaan strategi program studi. Diantara hal yang menjadi perhatian adalah bagaimana Unit Pengelola Program Studi akan berkontribusi secara berarti untuk memajukan perekonomian dan bisnis nasional serta profesi ekonom, manajemen dan akuntansi melalui pelaksanaan Tridharma Perguruan Tinggi. Unit Pengelola Program Studi secara jelas merumuskan visi, misi, tujuan dan strategi Unit Pengelola Program Studi untuk mewujudkan visi keilmuan program studi, serta menerangkan bagaimana keterlibatan seluruh pemangku kepentingan dalam perumusan tersebut. Visi, misi, tujuan dan strategi menunjukkan kekhasan Unit Pengelola Program Studi, maka dari itu keterlibatan pemangku kepentingan baik internal maupun eksternal pada saat penyusunan visi, misi, tujuan dan strategi menjadi sangat penting. | C13: Visi | D13: Visi mendeskripsikan aspirasi program studi, arah yang dituju dan profil program studi di masa yang akan datang secara jelas, realistis, kredibel dan dilakukan peninjauan ataupun evaluasi untuk menjamin implementasi visi secara efisien dan efektif dengan memerhatikan arah perkembangan dan kondisi ekonomi dan bisnis.
A14: 1.a.2 | D14: Visi diharapkan mampu menumbuhkan komitmen dan energi, memberi makna, menjadi standar kinerja yang menjembatani kondisi ekonomi dan bisnis masa sekarang dan masa yang akan datang serta disusun, ditetapkan, terdokumentasi dengan melibatkan seluruh pemangku kepentingan.
A15: 1.b.1 | C15: Misi | D15: Misi menguraikan keilmuan yang disampaikan, dikembangkan dan diterapkan pada kegiatan Tridharma Pendidikan Tinggi serta menjelaskan luaran dan dampak ekonomi dan bisnis, pihak-pihak yang dilayani dan mendapat manfaat, arena berkarya, nilai-nilai dan keyakinan yang dijadikan dasar dalam berkarya.
A16: 1.b.2 | D16: Misi mendeskripsikan secara jelas keunikan keberadaan program studi dalam mencapai visi serta menunjukkan apa yang akan dilakukan, secara ringkas, mudah diingat, mutakhir dan realistis yang disusun, ditetapkan, terdokumentasi serta melibatkan seluruh pemangku kepentingan dengan melakukan peninjauan dan evaluasi agar dapat menjembatani kondisi ekonomi dan bisnis masa sekarang dan masa yang akan datang.
A17: 1.c.1 | C17: Tujuan | D17: Tujuan diturunkan dari visi dan misi dan dievaluasi serta ditinjau ulang secara berkala agar sesuai dengan arah perkembangan ekonomi dan bisnis masa sekarang dan masa yang akan datang.
A18: 1.c.2 | D18: Sasaran diturunkan dari tujuan yang dinyatakan secara spesifik, terukur, hal yang akan dicapai, waktu pencapaiannya dan keterlibatan pemangku kepentingan.
A19: 1.d.1 | C19: Strategi | D19: Strategi mendeskripsikan proses dalam mengemban misi dan mewujudkan visi, melalui pencapaian tujuan dan sasaran strategisnya yang memiliki dampak terhadap daya saing dengan memanfaatkan sumber-sumber yang dimiliki secara efektif dan efisien untuk untuk menjawab arah perkembangan ekonomi dan bisnis baik nasional dan global.
A20: 1.d.2 | D20: Strategi mendeskripsikan penyusunan dan penetapan strategi dengan melibatkan seluruh pemangku kepentingan serta peninjauan dan evaluasi terhadap implementasi strategi yang efektif dan efisien.
A21: 2.a.1 | B21: TATA KELOLA, TATA PAMONG DAN KERJASAMA Unit Pengelola Program Studi secara jelas menerangkan bagaimana kepemimpinan program studi telah merancang dan melaksanakan tata pamong dan tata kelola organisasi yang bersifat transformasional dan partisipatif. Unit Pengelola Program Studi juga menjelaskan bagaimana kepemimpinan organisasi telah membangun dan melaksanakan kerjasama berkelanjutan dengan mitranya. | C21: Tata Pamong | D21: Unit Pengelola Program Studi mendeskripsikan proses, struktur dan tradisi dalam menjalankan tugas dan menggunakan wewenangnya untuk mengemban misi, mewujudkan visi dan mencapai tujuan serta sasaran strategisnya yang didukung perilaku etis dan berintegritas para pengelola, tenaga kependidikan, mahasiswa dan mitra Unit Pengelola Program Studi.
A22: 2.a.2 | D22: Unit Pengelola Program Studi mendeskripsikan peran, tanggung jawab, wewenang dan proses pengambilan keputusan untuk pencapaian efektivitas organisasi berdasarkan visi, misi, tujuan dan strategi serta menggunakan lima pilar sistem tata pamong, yang mencakup: kredibel, transparan, akuntabel, bertanggung jawab dan adil.
A23: 2.b.1 | C23: Tata Kelola | D23: Unit Pengelola Program Studi mendeskripsikan perencanaan, pengorganisasian, pengarahan dan pengendalian sumber daya agar program studi dapat menjalankan tugas dan kewajibannya secara efektif dan efisien serta akuntabel, bertanggung jawab, transparan, adil dan terhindar dari konflik kepentingan yang ditunjukkan dengan hasil evaluasi kepuasan para pemangku kepentingan terhadap keterlaksanaan dan efektivitas tata kelola.
A24: 2.b.2 | D24: Unit Pengelola Program Studi mendeskripsikan sistem manajemen mutu internal yang diimplementasikan secara konsisten, efektif dan efisien serta dilaporkan secara berkala untuk tindak lanjut peningkatan mutu pendidikan tinggi. ***)
A25: 2.c.1 | C25: Kerjasama | D25: Unit Pengelola Program Studi menjelaskan kegiatan dengan para mitranya dan hasil dari kegiatan tersebut.
A26: 2.c.2 | D26: Unit Pengelola Program Studi menjelaskan keselarasan dan konsistensi antara kerja sama, visi, misi, tujuan dan aspirasi para pemangku kepentingan dengan memperhatikan isu ekonomi dan bisnis yang berkembang untuk memberi dampak positif kepada para pemangku kepentingan dan masyarakat luas.
A27: 2.c..3 | D27: Unit Pengelola Program Studi menjelaskan cakupan kerja sama bidang Ilmu EMBA dan dampaknya. Kegiatan kerja sama program studi dapat mencakup bidang pendidikan, penelitian, dan/atau pengabdian kepada masyarakat dengan memperhatikan isu ekonomi dan bisnis yang berkembang di tingkat lokal, nasional, dan/atau internasional.
A28: 2.c.4 | D28: Unit Pengelola Program Studi melakukan evaluasi kerjasama secara berkala dan tindak lanjut dengan mempertimbangkan dampak internal dan eksternal kerjasama.
A29: 3.a.1 | B29: MAHASISWA Unit Pengelola Program Studi memberikan informasi yang dapat dipercaya tentang kinerja program studi di bidang kemahasiswaan, pengelolaan mahasiswa, kebijakan dan prosedur penerimaan mahasiswa, layanan akademik, kinerja akademik mahasiswa, layanan kesejahteraan mahasiswa dan pengembangan karir mahasiswa. Keterlibatan mahasiswa di Lembaga pemerintah/BUMN, dunia usaha, asosiasi pengusaha dan profesi dapat meningkatkan pengetahuan dan keterampilan praktis di dunia kerja dan bisnis. | C29: Kebijakan dan Prosedur Penerimaan Mahasiswa | D29: Unit Pengelola Program Studi menjelaskan kebijakan dan prosedur penerimaan mahasiswa baru, mahasiswa asing dan transfer kredit secara transparan dan selaras dengan visi, misi, tujuan, strategi, nilai-nilai dan profil lulusan yang diharapkan serta efektivitas dan konsistensi pelaksanaannya.
A30: 3.a.2 | D30: Unit Pengelola Program Studi menjelaskan sistem penerimaan mahasiswa baru meliputi kriteria dan persyaratan yang bersifat inklusif dengan mempertimbangkan asas pemerataan dan rasa keadilan.
A31: 3.b.1 | C31: Layanan Akademik Mahasiswa | D31: Unit Pengelola Program Studi menyiapkan, menjelaskan dan mendukung mahasiswa untuk menjamin kemajuan akademik dan mendorong keberhasilan mahasiswa dalam penyelesaian program.
A32: 3.b.2 | D32: Unit Pengelola Program Studi mendeskripsikan kebijakan, proses dan upaya pemenuhan standar kinerja yang konsisten dengan tujuan pembelajaran program studi, dengan: a) mempersiapkan mahasiswa agar mampu menggunakan modalitas dan pedagogi program studi; b) memberikan peringatan dini terkait masalah retensi dan perkembangan studi mahasiswa dan mengeluarkan mahasiswa dari program studi, jika perlu; c) memfasilitasi keterlibatan mahasiswa dalam semua aktivitas pembelajaran baik di kampus ataupun di luar kampus (Lembaga pemerintah/BUMN, dunia usaha, asosiasi pengusaha dan profesi) sebagai upaya meningkatkan hardskill dan softskill bidang ilmu EMBA. d) memfasilitasi kegiatan Unit Kegiatan Mahasiswa (UKM) yang sesuai dengan visi, misi, tujuan dan strategi.
A33: 3.c.1 | C33: Kinerja Akademik Mahasiswa | D33: Unit Pengelola Program Studi mendeskripsikan hasil kegiatan mahasiswa mengikuti program profesi, sertifikasi dan/atau lisensi bidang ilmu EMBA untuk meningkatkan kualitas lulusan yang sesuai dengan profil lulusan program studi.
A34: 3.c.2 | D34: Unit Pengelola Program Studi mendeskripsikan evaluasi yang dilakukan untuk mengetahui perkembangan kinerja akademik dan kompetensi mahasiswa agar durasi pengerjaan tugas akhir sesuai dengan target yang telah ditetapkan serta tindak lanjut yang diperlukan dengan melibatkan dosen dalam kegiatan pengembangan akademik.
A35: 3.d.1 | C35: Kesejahteraan Mahasiswa | D35: Unit Pengelola Program Studi menjelaskan upaya ketersediaan untuk kesejahteraan mental dan fisik mahasiswa serta akses kepada mahasiswa untuk mendapatkan dan layanan kesehatan fisik dan layanan konseling.
A36: 3.d.2 | D36: Unit Pengelola Program Studi mendeskripsikan fasilitas dan proses belajar yang memerhatikan kesejahteraan mahasiswa.
A37: 3.e.1 | C37: Pengembangan Karir Mahasiswa | D37: Unit Pengelola Program Studi mendeskripsikan program dan menyediakan fasilitas pengembangan karir dan kompetensi mahasiswa yang konsisten dengan visi, misi dan profil lulusan yang diharapkan sesuai dengan arah perkembangan ekonomi dan bisnis masa yang akan datang.
A38: 3.e.2 | D38: Unit Pengelola Program Studi memfasilitasi interaksi mahasiswa dengan sesama mahasiswa, dosen, alumni dan profesional dalam kegiatan akademik dan non-akademik untuk pengembangan kompetensi dan karir mahasiswa.
A39: 4.a.1 | B39: SUMBER DAYA MANUSIA Unit Pengelola Program Studi menjelaskan kemampuannya untuk memenuhi kebutuhan akan dosen dan tenaga kependidikan secara kuantitatif dan kualitatif sesuai dengan visi, misi, tujuan dan strategi Unit Pengelola Program Studi | C39: Kecukupan dan Kualifikasi Dosen | D39: Unit Pengelola Program Studi menugaskan dosen tetap dan dosen tidak tetap dengan jumlah dan kualifikasi yang sesuai dengan visi, misi, tujuan dan strategi serta memenuhi aturan SN-Dikti. ***)
A40: 4.a.2 | D40: Dosen secara kolektif dan individual mendeskripsikan keterlibatan akademik dan profesional secara signifikan dan memperkuat modal intelektual yang diperlukan untuk mendukung hasil berkualitas tinggi yang konsisten dengan visi, misi, tujuan dan strategi.
A41: 4.a.3 | C41: Pengelolaan Dosen | D41: Unit Pengelola Program Studi mendeskripsikan proses yang terdokumentasi dan efektif untuk memfasilitasi human resouce planning, rencana dan implementasi pendidikan, pelatihan dan pengembangan dosen untuk meningkatkan kualifikasi dan kinerja dosen sesuai dengan visi dan misi serta arah perkembangan ekonomi dan bisnis baik di tingkat nasional maupun global.
A42: 4.a.4 | D42: Unit Pengelola Program studi mendeskripsikan mekanisme dan prosedur dalam pengembangan karir akademik, keikutsertaan sertifikasi profesional dosen dalam bidang EMBA dan sesuai dengan visi, misi, tujuan dan strategi.
...

Sheet Berita Acara
A1: BERITA ACARA ASESMEN LAPANGAN PROGRAM STUDI
A2: LEMBAGA AKREDITASI MANDIRI EKONOMI, MANAJEMEN, BISNIS DAN AKUNTANSI
B3: Perguruan Tinggi | C3: : | D3: ='Kertas Kerja'!D4 -> 0
B4: Fakultas | C4: : | D4: ='Kertas Kerja'!D5 -> 0
B5: Departemen | C5: : | D5: ='Kertas Kerja'!D6 -> 0
B6: Program Studi | C6: : | D6: ='Kertas Kerja'!D7 -> 0
B7: Tanggal Asesmen Lapangan | C7: : | D7: ='Kertas Kerja'!D8 -> 0
B9: Pada hari …………… tanggal …………20…., telah dilaksanakan asesmen lapangan, untuk akreditasi Program Studi ………….., Jurusan ………………, Fakultas ….……, Universitas/Institut/Sekolah Tinggi/Politeknik/Akademi *)………………………………..
B11: Dari kegiatan tersebut diperoleh informasi butir-butir borang yang sesuai/tidak sesuai dengan kenyataan, dengan penjelasan sebagai tercantum di dalam daftar sebagai berikut.
A12: No. | B12: Kriteria & Deskripsi | C12: Dimensi | D12: Deskripsi Asesor Berdasarkan Analisis dan Evaluasi Lapangan
A13: 1.a.1 | B13: VISI, MISI, TUJUAN DAN STRATEGI Unit Pengelola Program Studi menjelaskan proses dalam menentukan visi, misi, tujuan dan pengembangan strategi, mengemban misi, mencapai visi dan tujuan strategis, serta proses dalam mengendalikan pelaksanaan strategi program studi. Diantara hal yang menjadi perhatian adalah bagaimana Unit Pengelola Program Studi akan berkontribusi secara berarti untuk memajukan perekonomian dan bisnis nasional serta profesi ekonom, manajemen dan akuntansi melalui pelaksanaan Tridharma Perguruan Tinggi. Unit Pengelola Program Studi secara jelas merumuskan visi, misi, tujuan dan strategi Unit Pengelola Program Studi untuk mewujudkan visi keilmuan program studi, serta menerangkan bagaimana keterlibatan seluruh pemangku kepentingan dalam perumusan tersebut. Visi, misi, tujuan dan strategi menunjukkan kekhasan Unit Pengelola Program Studi, maka dari itu keterlibatan pemangku kepentingan baik internal maupun eksternal pada saat penyusunan visi, misi, tujuan dan strategi menjadi sangat penting. | C13: Visi | D13: ='Kertas Kerja'!G13:G14 -> 0
A14: 1.a.2
A15: 1.b.1 | C15: Misi | D15: ='Kertas Kerja'!G15:G16 -> 0
A16: 1.b.2
A17: 1.c.1 | C17: Tujuan | D17: ='Kertas Kerja'!G17:G18 -> 0
A18: 1.c.2
A19: 1.d.1 | C19: Strategi | D19: ='Kertas Kerja'!G19:G20 -> 0
A20: 1.d.2
A21: 2.a.1 | B21: TATA KELOLA, TATA PAMONG DAN KERJASAMA Unit Pengelola Program Studi secara jelas menerangkan bagaimana kepemimpinan program studi telah merancang dan melaksanakan tata pamong dan tata kelola organisasi yang bersifat transformasional dan partisipatif. Unit Pengelola Program Studi juga menjelaskan bagaimana kepemimpinan organisasi telah membangun dan melaksanakan kerjasama berkelanjutan dengan mitranya. | C21: Tata Pamong | D21: ='Kertas Kerja'!G21:G22 -> 0
A22: 2.a.2
A23: 2.b.1 | C23: Tata Kelola | D23: ='Kertas Kerja'!G23:G24 -> 0
A24: 2.b.2
A25: 2.c.1 | C25: Kerjasama | D25: ='Kertas Kerja'!G25:G28 -> 0
A26: 2.c.2
A27: 2.c..3
A28: 2.c.4
A29: 3.a.1 | B29: MAHASISWA Unit Pengelola Program Studi memberikan informasi yang dapat dipercaya tentang kinerja program studi di bidang kemahasiswaan, pengelolaan mahasiswa, kebijakan dan prosedur penerimaan mahasiswa, layanan akademik, kinerja akademik mahasiswa, layanan kesejahteraan mahasiswa dan pengembangan karir mahasiswa. Keterlibatan mahasiswa di Lembaga pemerintah/BUMN, dunia usaha, asosiasi pengusaha dan profesi dapat meningkatkan pengetahuan dan keterampilan praktis di dunia kerja dan bisnis. | C29: Kebijakan dan Prosedur Penerimaan Mahasiswa | D29: ='Kertas Kerja'!G29:G30 -> 0
A30: 3.a.2
A31: 3.b.1 | C31: Layanan Akademik Mahasiswa | D31: ='Kertas Kerja'!G31:G32 -> 0
A32: 3.b.2
A33: 3.c.1 | C33: Kinerja Akademik Mahasiswa | D33: ='Kertas Kerja'!G33:G34 -> 0
A34: 3.c.2
A35: 3.d.1 | C35: Kesejahteraan Mahasiswa | D35: ='Kertas Kerja'!G35:G36 -> 0
A36: 3.d.2
A37: 3.e.1 | C37: Pengembangan Karir Mahasiswa | D37: ='Kertas Kerja'!G37:G38 -> 0
A38: 3.e.2
A39: 4.a.1 | B39: SUMBER DAYA MANUSIA Unit Pengelola Program Studi menjelaskan kemampuannya untuk memenuhi kebutuhan akan dosen dan tenaga kependidikan secara kuantitatif dan kualitatif sesuai dengan visi, misi, tujuan dan strategi Unit Pengelola Program Studi | C39: Kecukupan dan Kualifikasi Dosen | D39: ='Kertas Kerja'!G39:G40 -> 0
A40: 4.a.2
A41: 4.a.3 | C41: Pengelolaan Dosen | D41: ='Kertas Kerja'!G41:G44 -> 0
A42: 4.a.4
...

Sheet Rekomendasi
A1: REKOMENDASI PEMBINAAN PROGRAM STUDI DAN UNIT PENGELOLA PROGRAM STUDI
A3: Perguruan Tinggi | B3: : | C3: ='Kertas Kerja'!D4 -> 0
A4: Fakultas | B4: : | C4: ='Kertas Kerja'!D5 -> 0
A5: Departemen | B5: : | C5: ='Kertas Kerja'!D6 -> 0
A6: Program Studi | B6: : | C6: ='Kertas Kerja'!D7 -> 0
A7: Tanggal Asesmen Lapangan | B7: : | C7: ='Kertas Kerja'!D8 -> 0
A9: Rekomendasi ditulis dalam bentuk uraian menyeluruh dan kualitatif atas setiap kriteria yang menjelaskan kekuatan (keunggulan) dan kelemahan dari program studi yang disertai dengan pemberian apresiasi/komendasi (commendation) atas hasil yang telah dicapai, serta pemberian saran perbaikan/rekomendasi (recommendation) untuk hal-hal yang masih harus diperbaiki dan ditingkatkan dengan memerhatikan visi, misi, tujuan dan strategi Unit Pengelola Program Studi.
A10: Berdasarkan hasil asesmen kecukupan dan asesmen lapangan, tim asesor memberikan rekomendasi pembinaan Program Studi dan Unit Pengelola Program Studi sebagai berikut:
A12: KRITERIA 1 VISI, MISI, TUJUAN DAN STRATEGI
A15: KRITERIA 2 TATA PAMONG, TATA KELOLA DAN KERJASAMA
A18: KRITERIA 3 MAHASISWA
A21: KRITERIA 4 SUMBER DAYA MANUSIA
A24: KRITERIA 5 KEUANGAN, SARANA DAN PRASARANA
A27: KRITERIA 6 PENDIDIKAN
A30: KRITERIA 7 PENELITIAN
A33: KRITERIA 8 PENGABDIAN KEPADA MASYARAKAT
A36: KRITERIA 9 LUARAN DAN CAPAIAN TRIDHARMA
A39: ='Berita Acara'!D91 -> (Kota, Tanggal)
A41: Asesor I | B41: : ….................................................
A47: Asesor II | B47: : ….................................................

Sheet Keputusan AL
A1: FORMULIR PENILAIAN ASESMEN LAPANGAN AKREDITASI PROGRAM STUDI
A2: LEMBAGA AKREDITASI MANDIRI EKONOMI, MANAJEMEN, BISNIS DAN AKUNTANSI
B4: Perguruan Tinggi | C4: : | D4: ='Kertas Kerja'!D4 -> 0
B5: Fakultas | C5: : | D5: ='Kertas Kerja'!D5 -> 0
B6: Departemen | C6: : | D6: ='Kertas Kerja'!D6 -> 0
B7: Program Studi | C7: : | D7: ='Kertas Kerja'!D7 -> 0
B8: Tanggal Asesmen Lapangan | C8: : | D8: ='Kertas Kerja'!D8 -> 0
A10: No. | B10: Kriteria & Deskripsi | C10: Dimensi | D10: Indikator | E10: Evaluasi Asesor
E11: Status | G11: Deskripsi Penilaian Asesor Berdasarkan Data dan Informasi dari DED dan DKPS | H11: Standar Pendidikan Tinggi yang ditetapkan oleh Perguruan Tinggi sesuai atau melampaui | J11: Tingkat Daya Saing | L11: Pemenuhan Syarat Perlu Peringkat Akreditasi
E12: Meet the Indicator | F12: Not Meet the Indicator | H12: SN-Dikti | I12: Target pada Rencana Strategis | J12: Per Indikator | K12: Per Dimensi
A13: 1.a.1 | B13: VISI, MISI, TUJUAN DAN STRATEGI Unit Pengelola Program Studi menjelaskan proses dalam menentukan visi, misi, tujuan dan pengembangan strategi, mengemban misi, mencapai visi dan tujuan strategis, serta proses dalam mengendalikan pelaksanaan strategi program studi. Diantara hal yang menjadi perhatian adalah bagaimana Unit Pengelola Program Studi akan berkontribusi secara berarti untuk memajukan perekonomian dan bisnis nasional serta profesi ekonom, manajemen dan akuntansi melalui pelaksanaan Tridharma Perguruan Tinggi. Unit Pengelola Program Studi secara jelas merumuskan visi, misi, tujuan dan strategi Unit Pengelola Program Studi untuk mewujudkan visi keilmuan program studi, serta menerangkan bagaimana keterlibatan seluruh pemangku kepentingan dalam perumusan tersebut. Visi, misi, tujuan dan strategi menunjukkan kekhasan Unit Pengelola Program Studi, maka dari itu keterlibatan pemangku kepentingan baik internal maupun eksternal pada saat penyusunan visi, misi, tujuan dan strategi menjadi sangat penting. | C13: Visi | D13: Visi mendeskripsikan aspirasi program studi, arah yang dituju dan profil program studi di masa yang akan datang secara jelas, realistis, kredibel dan dilakukan peninjauan ataupun evaluasi untuk menjamin implementasi visi secara efisien dan efektif dengan memerhatikan arah perkembangan dan kondisi ekonomi dan bisnis. | E13: ='Kertas Kerja'!E13 -> 0 | F13: ='Kertas Kerja'!F13 -> 0 | G13: ='Kertas Kerja'!G13:G14 -> 0 | I13: ='Kertas Kerja'!I13:I14 -> 0 | J13: ='Kertas Kerja'!J13 -> 0 | K13: ='Kertas Kerja'!K13:K14 -> 0
A14: 1.a.2 | D14: Visi diharapkan mampu menumbuhkan komitmen dan energi, memberi makna, menjadi standar kinerja yang menjembatani kondisi ekonomi dan bisnis masa sekarang dan masa yang akan datang serta disusun, ditetapkan, terdokumentasi dengan melibatkan seluruh pemangku kepentingan. | E14: ='Kertas Kerja'!E14 -> 0 | F14: ='Kertas Kerja'!F14 -> 0 | J14: ='Kertas Kerja'!J14 -> 0
A15: 1.b.1 | C15: Misi | D15: Misi menguraikan keilmuan yang disampaikan, dikembangkan dan diterapkan pada kegiatan Tridharma Pendidikan Tinggi serta menjelaskan luaran dan dampak ekonomi dan bisnis, pihak-pihak yang dilayani dan mendapat manfaat, arena berkarya, nilai-nilai dan keyakinan yang dijadikan dasar dalam berkarya. | E15: ='Kertas Kerja'!E15 -> 0 | F15: ='Kertas Kerja'!F15 -> 0 | G15: ='Kertas Kerja'!G15:G16 -> 0 | I15: ='Kertas Kerja'!I15:I16 -> 0 | J15: ='Kertas Kerja'!J15 -> 0 | K15: ='Kertas Kerja'!K15:K16 -> 0
A16: 1.b.2 | D16: Misi mendeskripsikan secara jelas keunikan keberadaan program studi dalam mencapai visi serta menunjukkan apa yang akan dilakukan, secara ringkas, mudah diingat, mutakhir dan realistis yang disusun, ditetapkan, terdokumentasi serta melibatkan seluruh pemangku kepentingan dengan melakukan peninjauan dan evaluasi agar dapat menjembatani kondisi ekonomi dan bisnis masa sekarang dan masa yang akan datang. | E16: ='Kertas Kerja'!E16 -> 0 | F16: ='Kertas Kerja'!F16 -> 0 | J16: ='Kertas Kerja'!J16 -> 0
A17: 1.c.1 | C17: Tujuan | D17: Tujuan diturunkan dari visi dan misi dan dievaluasi serta ditinjau ulang secara berkala agar sesuai dengan arah perkembangan ekonomi dan bisnis masa sekarang dan masa yang akan datang. | E17: ='Kertas Kerja'!E17 -> 0 | F17: ='Kertas Kerja'!F17 -> 0 | G17: ='Kertas Kerja'!G17:G18 -> 0 | I17: ='Kertas Kerja'!I17:I18 -> 0 | J17: ='Kertas Kerja'!J17 -> 0 | K17: ='Kertas Kerja'!K17:K18 -> 0
A18: 1.c.2 | D18: Sasaran diturunkan dari tujuan yang dinyatakan secara spesifik, terukur, hal yang akan dicapai, waktu pencapaiannya dan keterlibatan pemangku kepentingan. | E18: ='Kertas Kerja'!E18 -> 0 | F18: ='Kertas Kerja'!F18 -> 0 | J18: ='Kertas Kerja'!J18 -> 0
A19: 1.d.1 | C19: Strategi | D19: Strategi mendeskripsikan proses dalam mengemban misi dan mewujudkan visi, melalui pencapaian tujuan dan sasaran strategisnya yang memiliki dampak terhadap daya saing dengan memanfaatkan sumber-sumber yang dimiliki secara efektif dan efisien untuk untuk menjawab arah perkembangan ekonomi dan bisnis baik nasional dan global. | E19: ='Kertas Kerja'!E19 -> 0 | F19: ='Kertas Kerja'!F19 -> 0 | G19: ='Kertas Kerja'!G19:G20 -> 0 | I19: ='Kertas Kerja'!I19:I20 -> 0 | J19: ='Kertas Kerja'!J19 -> 0 | K19: ='Kertas Kerja'!K19:K20 -> 0
A20: 1.d.2 | D20: Strategi mendeskripsikan penyusunan dan penetapan strategi dengan melibatkan seluruh pemangku kepentingan serta peninjauan dan evaluasi terhadap implementasi strategi yang efektif dan efisien. | E20: ='Kertas Kerja'!E20 -> 0 | F20: ='Kertas Kerja'!F20 -> 0 | J20: ='Kertas Kerja'!J20 -> 0
A21: 2.a.1 | B21: TATA KELOLA, TATA PAMONG DAN KERJASAMA Unit Pengelola Program Studi secara jelas menerangkan bagaimana kepemimpinan program studi telah merancang dan melaksanakan tata pamong dan tata kelola organisasi yang bersifat transformasional dan partisipatif. Unit Pengelola Program Studi juga menjelaskan bagaimana kepemimpinan organisasi telah membangun dan melaksanakan kerjasama berkelanjutan dengan mitranya. | C21: Tata Pamong | D21: Unit Pengelola Program Studi mendeskripsikan proses, struktur dan tradisi dalam menjalankan tugas dan menggunakan wewenangnya untuk mengemban misi, mewujudkan visi dan mencapai tujuan serta sasaran strategisnya yang didukung perilaku etis dan berintegritas para pengelola, tenaga kependidikan, mahasiswa dan mitra Unit Pengelola Program Studi. | E21: ='Kertas Kerja'!E21 -> 0 | F21: ='Kertas Kerja'!F21 -> 0 | G21: ='Kertas Kerja'!G21:G22 -> 0 | I21: ='Kertas Kerja'!I21:I22 -> 0 | J21: ='Kertas Kerja'!J21 -> 0 | K21: ='Kertas Kerja'!K21:K22 -> 0
A22: 2.a.2 | D22: Unit Pengelola Program Studi mendeskripsikan peran, tanggung jawab, wewenang dan proses pengambilan keputusan untuk pencapaian efektivitas organisasi berdasarkan visi, misi, tujuan dan strategi serta menggunakan lima pilar sistem tata pamong, yang mencakup: kredibel, transparan, akuntabel, bertanggung jawab dan adil. | E22: ='Kertas Kerja'!E22 -> 0 | F22: ='Kertas Kerja'!F22 -> 0 | J22: ='Kertas Kerja'!J22 -> 0
A23: 2.b.1 | C23: Tata Kelola | D23: Unit Pengelola Program Studi mendeskripsikan perencanaan, pengorganisasian, pengarahan dan pengendalian sumber daya agar program studi dapat menjalankan tugas dan kewajibannya secara efektif dan efisien serta akuntabel, bertanggung jawab, transparan, adil dan terhindar dari konflik kepentingan yang ditunjukkan dengan hasil evaluasi kepuasan para pemangku kepentingan terhadap keterlaksanaan dan efektivitas tata kelola. | E23: ='Kertas Kerja'!E23 -> 0 | F23: ='Kertas Kerja'!F23 -> 0 | G23: ='Kertas Kerja'!G23:G24 -> 0 | H23: ='Kertas Kerja'!H23:H24 -> 0 | I23: ='Kertas Kerja'!I23:I24 -> 0 | J23: ='Kertas Kerja'!J23 -> 0 | K23: ='Kertas Kerja'!K23:K24 -> 0
A24: 2.b.2 | D24: Unit Pengelola Program Studi mendeskripsikan sistem manajemen mutu internal yang diimplementasikan secara konsisten, efektif dan efisien serta dilaporkan secara berkala untuk tindak lanjut peningkatan mutu pendidikan tinggi. ***) | E24: ='Kertas Kerja'!E24 -> 0 | F24: ='Kertas Kerja'!F24 -> 0 | J24: ='Kertas Kerja'!J24 -> 0
A25: 2.c.1 | C25: Kerjasama | D25: Unit Pengelola Program Studi menjelaskan kegiatan dengan para mitranya dan hasil dari kegiatan tersebut. | E25: ='Kertas Kerja'!E25 -> 0 | F25: ='Kertas Kerja'!F25 -> 0 | G25: ='Kertas Kerja'!G25:G28 -> 0 | H25: ='Kertas Kerja'!H25:H28 -> 0 | I25: ='Kertas Kerja'!I25:I28 -> 0 | J25: ='Kertas Kerja'!J25 -> 0 | K25: ='Kertas Kerja'!K25:K28 -> 0
A26: 2.c.2 | D26: Unit Pengelola Program Studi menjelaskan keselarasan dan konsistensi antara kerja sama, visi, misi, tujuan dan aspirasi para pemangku kepentingan dengan memperhatikan isu ekonomi dan bisnis yang berkembang untuk memberi dampak positif kepada para pemangku kepentingan dan masyarakat luas. | E26: ='Kertas Kerja'!E26 -> 0 | F26: ='Kertas Kerja'!F26 -> 0 | J26: ='Kertas Kerja'!J26 -> 0
A27: 2.c..3 | D27: Unit Pengelola Program Studi menjelaskan cakupan kerja sama bidang Ilmu EMBA dan dampaknya. Kegiatan kerja sama program studi dapat mencakup bidang pendidikan, penelitian, dan/atau pengabdian kepada masyarakat dengan memperhatikan isu ekonomi dan bisnis yang berkembang di tingkat lokal, nasional, dan/atau internasional. | E27: ='Kertas Kerja'!E27 -> 0 | F27: ='Kertas Kerja'!F27 -> 0 | J27: ='Kertas Kerja'!J27 -> 0
A28: 2.c.4 | D28: Unit Pengelola Program Studi melakukan evaluasi kerjasama secara berkala dan tindak lanjut dengan mempertimbangkan dampak internal dan eksternal kerjasama. | E28: ='Kertas Kerja'!E28 -> 0 | F28: ='Kertas Kerja'!F28 -> 0 | J28: ='Kertas Kerja'!J28 -> 0
A29: 3.a.1 | B29: MAHASISWA Unit Pengelola Program Studi memberikan informasi yang dapat dipercaya tentang kinerja program studi di bidang kemahasiswaan, pengelolaan mahasiswa, kebijakan dan prosedur penerimaan mahasiswa, layanan akademik, kinerja akademik mahasiswa, layanan kesejahteraan mahasiswa dan pengembangan karir mahasiswa. Keterlibatan mahasiswa di Lembaga pemerintah/BUMN, dunia usaha, asosiasi pengusaha dan profesi dapat meningkatkan pengetahuan dan keterampilan praktis di dunia kerja dan bisnis. | C29: Kebijakan dan Prosedur Penerimaan Mahasiswa | D29: Unit Pengelola Program Studi menjelaskan kebijakan dan prosedur penerimaan mahasiswa baru, mahasiswa asing dan transfer kredit secara transparan dan selaras dengan visi, misi, tujuan, strategi, nilai-nilai dan profil lulusan yang diharapkan serta efektivitas dan konsistensi pelaksanaannya. | E29: ='Kertas Kerja'!E29 -> 0 | F29: ='Kertas Kerja'!F29 -> 0 | G29: ='Kertas Kerja'!G29:G30 -> 0 | I29: ='Kertas Kerja'!I29:I30 -> 0 | J29: ='Kertas Kerja'!J29 -> 0 | K29: ='Kertas Kerja'!K29:K30 -> 0
A30: 3.a.2 | D30: Unit Pengelola Program Studi menjelaskan sistem penerimaan mahasiswa baru meliputi kriteria dan persyaratan yang bersifat inklusif dengan mempertimbangkan asas pemerataan dan rasa keadilan. | E30: ='Kertas Kerja'!E30 -> 0 | F30: ='Kertas Kerja'!F30 -> 0 | J30: ='Kertas Kerja'!J30 -> 0
A31: 3.b.1 | C31: Layanan Akademik Mahasiswa | D31: Unit Pengelola Program Studi menyiapkan, menjelaskan dan mendukung mahasiswa untuk menjamin kemajuan akademik dan mendorong keberhasilan mahasiswa dalam penyelesaian program. | E31: ='Kertas Kerja'!E31 -> 0 | F31: ='Kertas Kerja'!F31 -> 0 | G31: ='Kertas Kerja'!G31:G32 -> 0 | I31: ='Kertas Kerja'!I31:I32 -> 0 | J31: ='Kertas Kerja'!J31 -> 0 | K31: ='Kertas Kerja'!K31:K32 -> 0
A32: 3.b.2 | D32: Unit Pengelola Program Studi mendeskripsikan kebijakan, proses dan upaya pemenuhan standar kinerja yang konsisten dengan tujuan pembelajaran program studi, dengan: a) mempersiapkan mahasiswa agar mampu menggunakan modalitas dan pedagogi program studi; b) memberikan peringatan dini terkait masalah retensi dan perkembangan studi mahasiswa dan mengeluarkan mahasiswa dari program studi, jika perlu; c) memfasilitasi keterlibatan mahasiswa dalam semua aktivitas pembelajaran baik di kampus ataupun di luar kampus (Lembaga pemerintah/BUMN, dunia usaha, asosiasi pengusaha dan profesi) sebagai upaya meningkatkan hardskill dan softskill bidang ilmu EMBA. d) memfasilitasi kegiatan Unit Kegiatan Mahasiswa (UKM) yang sesuai dengan visi, misi, tujuan dan strategi. | E32: ='Kertas Kerja'!E32 -> 0 | F32: ='Kertas Kerja'!F32 -> 0 | J32: ='Kertas Kerja'!J32 -> 0
A33: 3.c.1 | C33: Kinerja Akademik Mahasiswa | D33: Unit Pengelola Program Studi mendeskripsikan hasil kegiatan mahasiswa mengikuti program profesi, sertifikasi dan/atau lisensi bidang ilmu EMBA untuk meningkatkan kualitas lulusan yang sesuai dengan profil lulusan program studi. | E33: ='Kertas Kerja'!E33 -> 0 | F33: ='Kertas Kerja'!F33 -> 0 | G33: ='Kertas Kerja'!G33:G34 -> 0 | I33: ='Kertas Kerja'!I33:I34 -> 0 | J33: ='Kertas Kerja'!J33 -> 0 | K33: ='Kertas Kerja'!K33:K34 -> 0
A34: 3.c.2 | D34: Unit Pengelola Program Studi mendeskripsikan evaluasi yang dilakukan untuk mengetahui perkembangan kinerja akademik dan kompetensi mahasiswa agar durasi pengerjaan tugas akhir sesuai dengan target yang telah ditetapkan serta tindak lanjut yang diperlukan dengan melibatkan dosen dalam kegiatan pengembangan akademik. | E34: ='Kertas Kerja'!E34 -> 0 | F34: ='Kertas Kerja'!F34 -> 0 | J34: ='Kertas Kerja'!J34 -> 0
A35: 3.d.1 | C35: Kesejahteraan Mahasiswa | D35: Unit Pengelola Program Studi menjelaskan upaya ketersediaan untuk kesejahteraan mental dan fisik mahasiswa serta akses kepada mahasiswa untuk mendapatkan dan layanan kesehatan fisik dan layanan konseling. | E35: ='Kertas Kerja'!E35 -> 0 | F35: ='Kertas Kerja'!F35 -> 0 | G35: ='Kertas Kerja'!G35:G36 -> 0 | I35: ='Kertas Kerja'!I35:I36 -> 0 | J35: ='Kertas Kerja'!J35 -> 0 | K35: ='Kertas Kerja'!K35:K36 -> 0
A36: 3.d.2 | D36: Unit Pengelola Program Studi mendeskripsikan fasilitas dan proses belajar yang memerhatikan kesejahteraan mahasiswa. | E36: ='Kertas Kerja'!E36 -> 0 | F36: ='Kertas Kerja'!F36 -> 0 | J36: ='Kertas Kerja'!J36 -> 0
A37: 3.e.1 | C37: Pengembangan Karir Mahasiswa | D37: Unit Pengelola Program Studi mendeskripsikan program dan menyediakan fasilitas pengembangan karir dan kompetensi mahasiswa yang konsisten dengan visi, misi dan profil lulusan yang diharapkan sesuai dengan arah perkembangan ekonomi dan bisnis masa yang akan datang. | E37: ='Kertas Kerja'!E37 -> 0 | F37: ='Kertas Kerja'!F37 -> 0 | G37: ='Kertas Kerja'!G37:G38 -> 0 | I37: ='Kertas Kerja'!I37:I38 -> 0 | J37: ='Kertas Kerja'!J37 -> 0 | K37: ='Kertas Kerja'!K37:K38 -> 0
A38: 3.e.2 | D38: Unit Pengelola Program Studi memfasilitasi interaksi mahasiswa dengan sesama mahasiswa, dosen, alumni dan profesional dalam kegiatan akademik dan non-akademik untuk pengembangan kompetensi dan karir mahasiswa. | E38: ='Kertas Kerja'!E38 -> 0 | F38: ='Kertas Kerja'!F38 -> 0 | J38: ='Kertas Kerja'!J38 -> 0
A39: 4.a.1 | B39: SUMBER DAYA MANUSIA Unit Pengelola Program Studi menjelaskan kemampuannya untuk memenuhi kebutuhan akan dosen dan tenaga kependidikan secara kuantitatif dan kualitatif sesuai dengan visi, misi, tujuan dan strategi Unit Pengelola Program Studi | C39: Kecukupan dan Kualifikasi Dosen | D39: Unit Pengelola Program Studi menugaskan dosen tetap dan dosen tidak tetap dengan jumlah dan kualifikasi yang sesuai dengan visi, misi, tujuan dan strategi serta memenuhi aturan SN-Dikti. ***) | E39: ='Kertas Kerja'!E39 -> 0 | F39: ='Kertas Kerja'!F39 -> 0 | G39: ='Kertas Kerja'!G39:G40 -> 0 | H39: ='Kertas Kerja'!H39:H40 -> 0 | J39: ='Kertas Kerja'!J39 -> 0 | K39: ='Kertas Kerja'!K39:K40 -> 0 | L39: ='Kertas Kerja'!L39:L40 -> 0
A40: 4.a.2 | D40: Dosen secara kolektif dan individual mendeskripsikan keterlibatan akademik dan profesional secara signifikan dan memperkuat modal intelektual yang diperlukan untuk mendukung hasil berkualitas tinggi yang konsisten dengan visi, misi, tujuan dan strategi. | E40: ='Kertas Kerja'!E40 -> 0 | F40: ='Kertas Kerja'!F40 -> 0 | J40: ='Kertas Kerja'!J40 -> 0
A41: 4.a.3 | C41: Pengelolaan Dosen | D41: Unit Pengelola Program Studi mendeskripsikan proses yang terdokumentasi dan efektif untuk memfasilitasi human resouce planning, rencana dan implementasi pendidikan, pelatihan dan pengembangan dosen untuk meningkatkan kualifikasi dan kinerja dosen sesuai dengan visi dan misi serta arah perkembangan ekonomi dan bisnis baik di tingkat nasional maupun global. | E41: ='Kertas Kerja'!E41 -> 0 | F41: ='Kertas Kerja'!F41 -> 0 | G41: ='Kertas Kerja'!G41:G44 -> 0 | I41: ='Kertas Kerja'!I41:I44 -> 0 | J41: ='Kertas Kerja'!J41 -> 0 | K41: ='Kertas Kerja'!K41:K44 -> 0
A42: 4.a.4 | D42: Unit Pengelola Program studi mendeskripsikan mekanisme dan prosedur dalam pengembangan karir akademik, keikutsertaan sertifikasi profesional dosen dalam bidang EMBA dan sesuai dengan visi, misi, tujuan dan strategi. | E42: ='Kertas Kerja'!E42 -> 0 | F42: ='Kertas Kerja'!F42 -> 0 | J42: ='Kertas Kerja'!J42 -> 0
...
